BEGIN:VCALENDAR
VERSION:2.0
PRODID:-//Crazy4Bugs - ECPv6.15.13//NONSGML v1.0//EN
CALSCALE:GREGORIAN
METHOD:PUBLISH
X-WR-CALNAME:Crazy4Bugs
X-ORIGINAL-URL:https://child.connorscrazycorner.com
X-WR-CALDESC:Events for Crazy4Bugs
REFRESH-INTERVAL;VALUE=DURATION:PT1H
X-Robots-Tag:noindex
X-PUBLISHED-TTL:PT1H
BEGIN:VTIMEZONE
TZID:UTC
BEGIN:STANDARD
TZOFFSETFROM:+0000
TZOFFSETTO:+0000
TZNAME:UTC
DTSTART:20220101T000000
END:STANDARD
END:VTIMEZONE
BEGIN:VEVENT
DTSTART;TZID=UTC:20230405T080000
DTEND;TZID=UTC:20230405T100000
DTSTAMP:20260424T102307
CREATED:20230307T140312Z
LAST-MODIFIED:20230307T140314Z
UID:2981-1680681600-1680688800@child.connorscrazycorner.com
SUMMARY:Caterpillar Cavern
DESCRIPTION:Check out the cavern!
URL:https://child.connorscrazycorner.com/event/caterpillar-cavern/
LOCATION:Crazy4Bugs\, 2522 Locust Hill Rd\, Taylors\, South Carolina\, 29687\, United States
CATEGORIES:Caterpillar,Show
END:VEVENT
END:VCALENDAR