BEGIN:VCALENDAR
VERSION:2.0
PRODID:-//Crazy4Bugs - ECPv6.15.13//NONSGML v1.0//EN
CALSCALE:GREGORIAN
METHOD:PUBLISH
X-ORIGINAL-URL:https://child.connorscrazycorner.com
X-WR-CALDESC:Events for Crazy4Bugs
REFRESH-INTERVAL;VALUE=DURATION:PT1H
X-Robots-Tag:noindex
X-PUBLISHED-TTL:PT1H
BEGIN:VTIMEZONE
TZID:UTC
BEGIN:STANDARD
TZOFFSETFROM:+0000
TZOFFSETTO:+0000
TZNAME:UTC
DTSTART:20220101T000000
END:STANDARD
END:VTIMEZONE
BEGIN:VEVENT
DTSTART;TZID=UTC:20230412T090000
DTEND;TZID=UTC:20230415T170000
DTSTAMP:20260424T102619
CREATED:20230307T141205Z
LAST-MODIFIED:20230307T141206Z
UID:2987-1681290000-1681578000@child.connorscrazycorner.com
SUMMARY:Beetle Battle Bazaar
DESCRIPTION:Come enjoy our multi day event where Beetles will face off to determine who is the strongest! (No beetles will be harmed)
URL:https://child.connorscrazycorner.com/event/beetle-battle-bazaar/
LOCATION:Crazy4Bugs\, 2522 Locust Hill Rd\, Taylors\, South Carolina\, 29687\, United States
CATEGORIES:Beetle,Show
END:VEVENT
END:VCALENDAR