BEGIN:VCALENDAR
VERSION:2.0
PRODID:-//Crazy4Bugs - ECPv6.15.13//NONSGML v1.0//EN
CALSCALE:GREGORIAN
METHOD:PUBLISH
X-WR-CALNAME:Crazy4Bugs
X-ORIGINAL-URL:https://child.connorscrazycorner.com
X-WR-CALDESC:Events for Crazy4Bugs
REFRESH-INTERVAL;VALUE=DURATION:PT1H
X-Robots-Tag:noindex
X-PUBLISHED-TTL:PT1H
BEGIN:VTIMEZONE
TZID:UTC
BEGIN:STANDARD
TZOFFSETFROM:+0000
TZOFFSETTO:+0000
TZNAME:UTC
DTSTART:20220101T000000
END:STANDARD
END:VTIMEZONE
BEGIN:VEVENT
DTSTART;TZID=UTC:20230304T120000
DTEND;TZID=UTC:20230304T140000
DTSTAMP:20260424T144833
CREATED:20230302T151406Z
LAST-MODIFIED:20230302T155629Z
UID:2956-1677931200-1677938400@child.connorscrazycorner.com
SUMMARY:Bug Hunt
DESCRIPTION:Come hunt for bugs!
URL:https://child.connorscrazycorner.com/event/bug-hunt/
LOCATION:Crazy4Bugs\, 2522 Locust Hill Rd\, Taylors\, South Carolina\, 29687\, United States
CATEGORIES:Bug,Hunt
END:VEVENT
BEGIN:VEVENT
DTSTART;TZID=UTC:20230302T093000
DTEND;TZID=UTC:20230302T100000
DTSTAMP:20260424T144833
CREATED:20230302T142957Z
LAST-MODIFIED:20230307T140621Z
UID:2941-1677749400-1677751200@child.connorscrazycorner.com
SUMMARY:First Event
DESCRIPTION:Come enjoy the first event of the 2023 season!
URL:https://child.connorscrazycorner.com/event/first-event/
LOCATION:Crazy4Bugs\, 2522 Locust Hill Rd\, Taylors\, South Carolina\, 29687\, United States
CATEGORIES:Category
END:VEVENT
END:VCALENDAR