BEGIN:VCALENDAR
VERSION:2.0
PRODID:-//Crazy4Bugs - ECPv6.15.13//NONSGML v1.0//EN
CALSCALE:GREGORIAN
METHOD:PUBLISH
X-WR-CALNAME:Crazy4Bugs
X-ORIGINAL-URL:https://child.connorscrazycorner.com
X-WR-CALDESC:Events for Crazy4Bugs
REFRESH-INTERVAL;VALUE=DURATION:PT1H
X-Robots-Tag:noindex
X-PUBLISHED-TTL:PT1H
BEGIN:VTIMEZONE
TZID:UTC
BEGIN:STANDARD
TZOFFSETFROM:+0000
TZOFFSETTO:+0000
TZNAME:UTC
DTSTART:20220101T000000
END:STANDARD
END:VTIMEZONE
BEGIN:VEVENT
DTSTART;TZID=UTC:20230328T130000
DTEND;TZID=UTC:20230328T150000
DTSTAMP:20260424T144650
CREATED:20230302T152504Z
LAST-MODIFIED:20230302T152523Z
UID:2965-1680008400-1680015600@child.connorscrazycorner.com
SUMMARY:Wacky Worm Workshop
DESCRIPTION:Come dig for some worms\, just don’t eat them…
URL:https://child.connorscrazycorner.com/event/wacky-worm-workshop/
LOCATION:Crazy4Bugs\, 2522 Locust Hill Rd\, Taylors\, South Carolina\, 29687\, United States
CATEGORIES:Workshop,Worm
END:VEVENT
BEGIN:VEVENT
DTSTART;TZID=UTC:20230324T080000
DTEND;TZID=UTC:20230324T100000
DTSTAMP:20260424T144650
CREATED:20230302T152851Z
LAST-MODIFIED:20230302T152852Z
UID:2967-1679644800-1679652000@child.connorscrazycorner.com
SUMMARY:Bug Study Workshop
DESCRIPTION:Come learn about all kinds of bugs!
URL:https://child.connorscrazycorner.com/event/bug-study-workshop/
LOCATION:Crazy4Bugs\, 2522 Locust Hill Rd\, Taylors\, South Carolina\, 29687\, United States
CATEGORIES:Bug,Workshop
END:VEVENT
BEGIN:VEVENT
DTSTART;TZID=UTC:20230305T080000
DTEND;TZID=UTC:20230312T033000
DTSTAMP:20260424T144650
CREATED:20230302T152320Z
LAST-MODIFIED:20230302T152541Z
UID:2963-1678003200-1678591800@child.connorscrazycorner.com
SUMMARY:Beedle's Beetle Collection
DESCRIPTION:Crazy4Bug’s Event Organizer Beedle will be showcasing his massive collection of Beetles!
URL:https://child.connorscrazycorner.com/event/beedles-beetle-collection/
LOCATION:Crazy4Bugs\, 2522 Locust Hill Rd\, Taylors\, South Carolina\, 29687\, United States
CATEGORIES:Beetle,Show
END:VEVENT
BEGIN:VEVENT
DTSTART;TZID=UTC:20230304T120000
DTEND;TZID=UTC:20230304T140000
DTSTAMP:20260424T144650
CREATED:20230302T151406Z
LAST-MODIFIED:20230302T155629Z
UID:2956-1677931200-1677938400@child.connorscrazycorner.com
SUMMARY:Bug Hunt
DESCRIPTION:Come hunt for bugs!
URL:https://child.connorscrazycorner.com/event/bug-hunt/
LOCATION:Crazy4Bugs\, 2522 Locust Hill Rd\, Taylors\, South Carolina\, 29687\, United States
CATEGORIES:Bug,Hunt
END:VEVENT
BEGIN:VEVENT
DTSTART;TZID=UTC:20230302T093000
DTEND;TZID=UTC:20230302T100000
DTSTAMP:20260424T144650
CREATED:20230302T142957Z
LAST-MODIFIED:20230307T140621Z
UID:2941-1677749400-1677751200@child.connorscrazycorner.com
SUMMARY:First Event
DESCRIPTION:Come enjoy the first event of the 2023 season!
URL:https://child.connorscrazycorner.com/event/first-event/
LOCATION:Crazy4Bugs\, 2522 Locust Hill Rd\, Taylors\, South Carolina\, 29687\, United States
CATEGORIES:Category
END:VEVENT
END:VCALENDAR