BEGIN:VCALENDAR
VERSION:2.0
PRODID:-//Crazy4Bugs - ECPv6.15.13//NONSGML v1.0//EN
CALSCALE:GREGORIAN
METHOD:PUBLISH
X-ORIGINAL-URL:https://child.connorscrazycorner.com
X-WR-CALDESC:Events for Crazy4Bugs
REFRESH-INTERVAL;VALUE=DURATION:PT1H
X-Robots-Tag:noindex
X-PUBLISHED-TTL:PT1H
BEGIN:VTIMEZONE
TZID:UTC
BEGIN:STANDARD
TZOFFSETFROM:+0000
TZOFFSETTO:+0000
TZNAME:UTC
DTSTART:20220101T000000
END:STANDARD
END:VTIMEZONE
BEGIN:VEVENT
DTSTART;TZID=UTC:20230428T190000
DTEND;TZID=UTC:20230428T210000
DTSTAMP:20260424T143730
CREATED:20230307T141746Z
LAST-MODIFIED:20230307T141747Z
UID:2991-1682708400-1682715600@child.connorscrazycorner.com
SUMMARY:Night Light Fright
DESCRIPTION:Come learn about some of the spookiest bugs!
URL:https://child.connorscrazycorner.com/event/night-light-fright/
LOCATION:Crazy4Bugs\, 2522 Locust Hill Rd\, Taylors\, South Carolina\, 29687\, United States
CATEGORIES:Bug,Workshop
END:VEVENT
BEGIN:VEVENT
DTSTART;TZID=UTC:20230430T130000
DTEND;TZID=UTC:20230430T170000
DTSTAMP:20260424T143730
CREATED:20230307T142022Z
LAST-MODIFIED:20230307T142023Z
UID:2993-1682859600-1682874000@child.connorscrazycorner.com
SUMMARY:Caterpillar Central
DESCRIPTION:Caterpillars are taking over at Crazy4Bugs! Come check out all sorts of crazy critters!
URL:https://child.connorscrazycorner.com/event/caterpillar-central/
LOCATION:Crazy4Bugs\, 2522 Locust Hill Rd\, Taylors\, South Carolina\, 29687\, United States
CATEGORIES:Caterpillar,Show,Workshop
END:VEVENT
END:VCALENDAR